BEGIN:VCALENDAR
VERSION:2.0
PRODID:-//National Youth Forum - ECPv5.9.0//NONSGML v1.0//EN
CALSCALE:GREGORIAN
METHOD:PUBLISH
X-WR-CALNAME:National Youth Forum
X-ORIGINAL-URL:https://forum.youthaffairs.gov.sl
X-WR-CALDESC:Events for National Youth Forum
BEGIN:VTIMEZONE
TZID:UTC
BEGIN:STANDARD
TZOFFSETFROM:+0000
TZOFFSETTO:+0000
TZNAME:UTC
DTSTART:20200101T000000
END:STANDARD
TZID:Africa/Monrovia
BEGIN:STANDARD
TZOFFSETFROM:+0000
TZOFFSETTO:+0000
TZNAME:GMT
DTSTART:20200101T000000
END:STANDARD
END:VTIMEZONE
BEGIN:VEVENT
DTSTART;TZID=UTC:20210120T080000
DTEND;TZID=UTC:20210120T170000
DTSTAMP:20210907T235256
CREATED:20210119T030627Z
LAST-MODIFIED:20210119T030627Z
UID:1638-1611129600-1611162000@forum.youthaffairs.gov.sl
SUMMARY:Revised National Youth Policy launch
DESCRIPTION:
URL:https://forum.youthaffairs.gov.sl/event/revised-national-youth-policy-launch/
END:VEVENT
BEGIN:VEVENT
DTSTART;TZID=UTC:20201101T130000
DTEND;TZID=UTC:20201101T183000
DTSTAMP:20210907T235256
CREATED:20201019T204840Z
LAST-MODIFIED:20201019T204840Z
UID:905-1604235600-1604255400@forum.youthaffairs.gov.sl
SUMMARY:GAMES DAY
DESCRIPTION:
URL:https://forum.youthaffairs.gov.sl/event/games-day/
LOCATION:SS Camp  Field\, Freetown\, Sierra Leone
ATTACH;FMTTYPE=image/png:https://forum.youthaffairs.gov.sl/wp-content/uploads/2020/10/Games-1-min.png
END:VEVENT
BEGIN:VEVENT
DTSTART;TZID=Africa/Monrovia:20201012T100000
DTEND;TZID=Africa/Monrovia:20201012T233000
DTSTAMP:20210907T235256
CREATED:20201019T115046Z
LAST-MODIFIED:20201017T134806Z
UID:551-1602496800-1602545400@forum.youthaffairs.gov.sl
SUMMARY:Legislative Reform Series 1 : Ease Of Doing Business
DESCRIPTION:
URL:https://forum.youthaffairs.gov.sl/event/legislative-reform-series-1-ease-of-doing-business/
END:VEVENT
END:VCALENDAR